BEGIN:VCALENDAR

VERSION:2.0

PRODID:-//hacksw/handcal//NONSGML v1.0//EN

BEGIN:VEVENT

UID:f7a271aaebc48f2a1a9f143e48d1e7aa

DTSTAMP:20260421T110352Z

DTSTART:20260310T154500

DTEND:20260310T155500

SUMMARY:9B13C9A0-BBC2-44B1-901C-8325003804DA - 1/31 Mcewen Street, SHEPPARTON VIC 3630

LOCATION:1/31 Mcewen Street, SHEPPARTON VIC 3630

END:VEVENT

END:VCALENDAR