BEGIN:VCALENDAR

VERSION:2.0

PRODID:-//hacksw/handcal//NONSGML v1.0//EN

BEGIN:VEVENT

UID:af8fac89f6d69c82d0cb91ce27921ac6

DTSTAMP:20260420T132409Z

DTSTART:20260420T123500

DTEND:20260420T124500

SUMMARY:FCAF20EE-58A9-423F-B630-1B40E0F5BA1E - 101 Orr Street, SHEPPARTON VIC 3630

LOCATION:101 Orr Street, SHEPPARTON VIC 3630

END:VEVENT

END:VCALENDAR