BEGIN:VCALENDAR

VERSION:2.0

PRODID:-//hacksw/handcal//NONSGML v1.0//EN

BEGIN:VEVENT

UID:82623643713f013cd47c88be84edc06d

DTSTAMP:20260421T105647Z

DTSTART:20260421T164000

DTEND:20260421T165000

SUMMARY:134FFC76-8DF9-48B0-89E0-C2068978B54D - 93 Emma Street, MOOROOPNA VIC 3629

LOCATION:93 Emma Street, MOOROOPNA VIC 3629

END:VEVENT

END:VCALENDAR