BEGIN:VCALENDAR

VERSION:2.0

PRODID:-//hacksw/handcal//NONSGML v1.0//EN

BEGIN:VEVENT

UID:10824dcb64aae40f51df8fdfee2b54ca

DTSTAMP:20260420T113524Z

DTSTART:20260424T173000

DTEND:20260424T175000

SUMMARY:C8A9F501-5808-4D6B-A7A9-6DCEACCA746B - 80 Knight Street, SHEPPARTON VIC 3630

LOCATION:80 Knight Street, SHEPPARTON VIC 3630

END:VEVENT

END:VCALENDAR