BEGIN:VCALENDAR

VERSION:2.0

PRODID:-//hacksw/handcal//NONSGML v1.0//EN

BEGIN:VEVENT

UID:64d15bdb2ae43a0888da8939d140b2a1

DTSTAMP:20260420T113038Z

DTSTART:20260424T170000

DTEND:20260424T172000

SUMMARY:EFC51E58-07DD-48CD-A14D-AC7B5008AA8D - 13 Waters Road, SHEPPARTON VIC 3630

LOCATION:13 Waters Road, SHEPPARTON VIC 3630

END:VEVENT

END:VCALENDAR