BEGIN:VCALENDAR

VERSION:2.0

PRODID:-//hacksw/handcal//NONSGML v1.0//EN

BEGIN:VEVENT

UID:f45014d1faa902b9464de770179ac0d8

DTSTAMP:20260423T065447Z

DTSTART:20260425T130000

DTEND:20260425T132000

SUMMARY:4BD8AEC3-0238-4C33-A412-5307C10AF12E - 23 Mariem Street, SHEPPARTON VIC 3630

LOCATION:23 Mariem Street, SHEPPARTON VIC 3630

END:VEVENT

END:VCALENDAR