BEGIN:VCALENDAR

VERSION:2.0

PRODID:-//hacksw/handcal//NONSGML v1.0//EN

BEGIN:VEVENT

UID:23f7549ce3bf30a28b2f9e95a5f09112

DTSTAMP:20260420T113010Z

DTSTART:20260425T134500

DTEND:20260425T140500

SUMMARY:4474D72A-9CF9-484C-B73A-8CFB966FDD9F - 4 Clydesdale Street, SHEPPARTON VIC 3630

LOCATION:4 Clydesdale Street, SHEPPARTON VIC 3630

END:VEVENT

END:VCALENDAR