BEGIN:VCALENDAR

VERSION:2.0

PRODID:-//hacksw/handcal//NONSGML v1.0//EN

BEGIN:VEVENT

UID:9d069d98fc45830187f656acedc1b7ad

DTSTAMP:20260422T120204Z

DTSTART:20260427T163000

DTEND:20260427T164000

SUMMARY:3C6B5072-A5FC-47E4-8E9B-15C01992A582 - 36 Golf Drive, SHEPPARTON VIC 3630

LOCATION:36 Golf Drive, SHEPPARTON VIC 3630

END:VEVENT

END:VCALENDAR