BEGIN:VCALENDAR

VERSION:2.0

PRODID:-//hacksw/handcal//NONSGML v1.0//EN

BEGIN:VEVENT

UID:f0d8d7abff4f3a8fc6c797acf97bad7d

DTSTAMP:20260423T145703Z

DTSTART:20260427T160000

DTEND:20260427T161500

SUMMARY:CE19AF31-CA7D-49D3-977E-F1B460A5DF6A - 6 Gloucester Crescent, SHEPPARTON VIC 3630

LOCATION:6 Gloucester Crescent, SHEPPARTON VIC 3630

END:VEVENT

END:VCALENDAR