BEGIN:VCALENDAR

VERSION:2.0

PRODID:-//hacksw/handcal//NONSGML v1.0//EN

BEGIN:VEVENT

UID:0b86f348c87647341a171c18ba7ab91c

DTSTAMP:20260421T122233Z

DTSTART:20260429T163000

DTEND:20260429T164000

SUMMARY:D6A68CB6-57E2-4D73-9E04-C27494725032 - 19 Delatite Avenue, SHEPPARTON VIC 3630

LOCATION:19 Delatite Avenue, SHEPPARTON VIC 3630

END:VEVENT

END:VCALENDAR