BEGIN:VCALENDAR

VERSION:2.0

PRODID:-//hacksw/handcal//NONSGML v1.0//EN

BEGIN:VEVENT

UID:99f3acaa46bfc9b3a259dbc04fa9be22

DTSTAMP:20260423T145334Z

DTSTART:20260429T160000

DTEND:20260429T161000

SUMMARY:DDB4158E-06B3-437C-A240-30577EBE355C - 8 Palmer Road, SHEPPARTON VIC 3630

LOCATION:8 Palmer Road, SHEPPARTON VIC 3630

END:VEVENT

END:VCALENDAR