BEGIN:VCALENDAR

VERSION:2.0

PRODID:-//hacksw/handcal//NONSGML v1.0//EN

BEGIN:VEVENT

UID:29ac935bf82f6576877057ea8c79e8de

DTSTAMP:20260424T141959Z

DTSTART:20260429T130000

DTEND:20260429T131000

SUMMARY:C5EB6F57-C401-41F3-AE20-13150FF60844 - 20 Maxwell Street, SHEPPARTON VIC 3630

LOCATION:20 Maxwell Street, SHEPPARTON VIC 3630

END:VEVENT

END:VCALENDAR